BEGIN:VCALENDAR
VERSION:2.0
PRODID:-//JR the DJ - ECPv6.11.2//NONSGML v1.0//EN
CALSCALE:GREGORIAN
METHOD:PUBLISH
X-WR-CALNAME:JR the DJ
X-ORIGINAL-URL:https://www.jrthedj.com
X-WR-CALDESC:Events for JR the DJ
REFRESH-INTERVAL;VALUE=DURATION:PT1H
X-Robots-Tag:noindex
X-PUBLISHED-TTL:PT1H
BEGIN:VTIMEZONE
TZID:America/New_York
BEGIN:DAYLIGHT
TZOFFSETFROM:-0500
TZOFFSETTO:-0400
TZNAME:EDT
DTSTART:20260308T070000
END:DAYLIGHT
BEGIN:STANDARD
TZOFFSETFROM:-0400
TZOFFSETTO:-0500
TZNAME:EST
DTSTART:20261101T060000
END:STANDARD
END:VTIMEZONE
BEGIN:VEVENT
DTSTART;TZID=America/New_York:20260501T150000
DTEND;TZID=America/New_York:20260501T190000
DTSTAMP:20260419T133219
CREATED:20260329T155413Z
LAST-MODIFIED:20260329T155413Z
UID:2554-1777647600-1777662000@www.jrthedj.com
SUMMARY:Heartland Church 1st Annual Car Show
DESCRIPTION:Lexington\, Ohio – Heartland Church\, 2505 Lexington-Springmill Road\, for the Heartland Church 1st Annual Car Show. 3:00 PM to 7:00 PM No registration fee (donations accepted).  Open to all makes and models.  Awards\, door prizes\, food trucks and music
URL:https://www.jrthedj.com/event/heartland-church-1st-annual-car-show/
LOCATION:Heartland Church – Lexington\, Ohio\, 2505 S. Lexington-Springmill Road\, Lexington\, OH\, 44904\, United States
END:VEVENT
BEGIN:VEVENT
DTSTART;TZID=America/New_York:20260503T130000
DTEND;TZID=America/New_York:20260503T160000
DTSTAMP:20260419T133219
CREATED:20260226T203819Z
LAST-MODIFIED:20260226T203819Z
UID:2400-1777813200-1777824000@www.jrthedj.com
SUMMARY:3rd Annual Woodside Village Care Center Car & Truck Show
DESCRIPTION:Woodside Village Care Center\, 841 W. Marion Rd.\, Mt Gilead\, Ohio for their 2nd Car & Truck Show. 1:00 PM to 4:00 PM Open to all makes & models. Early Reg. Fee $10.00; $15.00 day of show. Contact Christa to register early. Awards\, 50/50\, raffle\, bake sale\, food\, bounce house\, face painting. Family event- free to attend. Contact Christa (419) 989-9834 or JR (419) 884-7075
URL:https://www.jrthedj.com/event/3rd-annual-woodside-village-care-center-car-truck-show/
LOCATION:Woodside Village Care Center\, 841 West Mrion Road\, Mt Gilead\, OH\, 43338\, United States
END:VEVENT
BEGIN:VEVENT
DTSTART;TZID=America/New_York:20260507T160000
DTEND;TZID=America/New_York:20260507T200000
DTSTAMP:20260419T133219
CREATED:20260325T211254Z
LAST-MODIFIED:20260325T211254Z
UID:2512-1778169600-1778184000@www.jrthedj.com
SUMMARY:Pizza Hut - Wingstreet Car\, Truck & 'Cycle Cruise-In
DESCRIPTION:Ontario\, Ohio – Pizza Hut – Wingstreet\, 365 N. Lexington-Springmill Rd.\, for the weekly Cruise-In. Open to all show cars\, rat rods\, trucks and motorcycles- no registration fee. Giveaways\, door prizes\, food discount for cruisers. Great hits from the ’50’s to the ’90’s. Family Event – open to everyone. 4:00 PM – 8:00 PM.
URL:https://www.jrthedj.com/event/pizza-hut-wingstreet-car-truck-cycle-cruise-in/
LOCATION:Pizza Hut\, 365 N. Lexington-Springmill Road\, Ontario\, OH\, 44906\, United States
END:VEVENT
BEGIN:VEVENT
DTSTART;TZID=America/New_York:20260514T160000
DTEND;TZID=America/New_York:20260514T200000
DTSTAMP:20260419T133219
CREATED:20260325T211528Z
LAST-MODIFIED:20260325T211528Z
UID:2514-1778774400-1778788800@www.jrthedj.com
SUMMARY:Pizza Hut - Wingstreet Car\, Truck & 'Cycle Cruise-In
DESCRIPTION:Ontario\, Ohio – Pizza Hut – Wingstreet\, 365 N. Lexington-Springmill Rd.\, for the weekly Cruise-In. Open to all show cars\, rat rods\, trucks and motorcycles- no registration fee. Giveaways\, door prizes\, food discount for cruisers. Great hits from the ’50’s to the ’90’s. Family Event – open to everyone. 4:00 PM – 8:00 PM.
URL:https://www.jrthedj.com/event/pizza-hut-wingstreet-car-truck-cycle-cruise-in-2/
LOCATION:Pizza Hut\, 365 N. Lexington-Springmill Road\, Ontario\, OH\, 44906\, United States
END:VEVENT
BEGIN:VEVENT
DTSTART;TZID=America/New_York:20260518T160000
DTEND;TZID=America/New_York:20260518T200000
DTSTAMP:20260419T133219
CREATED:20260226T213855Z
LAST-MODIFIED:20260226T213855Z
UID:2426-1779120000-1779134400@www.jrthedj.com
SUMMARY:Southside Diner's Monthly Cruise-In
DESCRIPTION:Mt. Vernon\, Ohio – Southside Diner\, 620 S. Main Street for their monthly cruise-in. A community night open to all hot cars\, trucks & cycles. 10% off to cruisers\, door prizes\, and music featuring the ’50’s\, ’60’s & ’70’s. Free & Open to general public. 4:00 PM – 8:00 PM
URL:https://www.jrthedj.com/event/southside-diners-monthly-cruise-in/
LOCATION:Southside Diner\, 620 South Main Street\, Mount Vernon\, OH\, 43050\, United States
END:VEVENT
BEGIN:VEVENT
DTSTART;TZID=America/New_York:20260519T170000
DTEND;TZID=America/New_York:20260519T200000
DTSTAMP:20260419T133219
CREATED:20260226T215138Z
LAST-MODIFIED:20260226T215138Z
UID:2436-1779210000-1779220800@www.jrthedj.com
SUMMARY:Wooster Pizza Hut's Cruise 'N Dine
DESCRIPTION:Wooster\, Ohio – Pizza Hut\, 1831 Beall Avenue for the Cruise ‘N Dine Car Show 5:00 PM to 8:00 PM. Open to all cars\, trucks & ‘cycles. No registration fee\, door prizes\, 10% off food for cruisers\, JR the DJ with summer hits. Rain or Shine
URL:https://www.jrthedj.com/event/wooster-pizza-huts-cruise-n-dine/
LOCATION:Pizza Hut – Wooster\, 1831 Beall Avenue\, Woooster\, 44691\, United States
END:VEVENT
BEGIN:VEVENT
DTSTART;TZID=America/New_York:20260520T080000
DTEND;TZID=America/New_York:20260520T170000
DTSTAMP:20260419T133219
CREATED:20260226T220215Z
LAST-MODIFIED:20260226T220215Z
UID:2446-1779264000-1779296400@www.jrthedj.com
SUMMARY:Alliance Pizza Hut's Cruise 'N Dine
DESCRIPTION:Alliance\, Ohio – Pizza Hut\, 2200 W. State Street for the Cruise ‘N Dine Car Show 5:00 PM to 8:00 PM. Open to all cars\, trucks & ‘cycles. No registration fee\, door prizes\, 10% off food for cruisers\, JR the DJ with summer hits. Rain or Shine.
URL:https://www.jrthedj.com/event/alliance-pizza-huts-cruise-n-dine/
LOCATION:Pizza Hut – Alliance\, 2200 W. State Street\, Alliance\, OH\, 44601\, United States
END:VEVENT
BEGIN:VEVENT
DTSTART;TZID=America/New_York:20260521T160000
DTEND;TZID=America/New_York:20260521T200000
DTSTAMP:20260419T133219
CREATED:20260325T211702Z
LAST-MODIFIED:20260325T211702Z
UID:2516-1779379200-1779393600@www.jrthedj.com
SUMMARY:Pizza Hut - Wingstreet Car\, Truck & 'Cycle Cruise-In
DESCRIPTION:Ontario\, Ohio – Pizza Hut – Wingstreet\, 365 N. Lexington-Springmill Rd.\, for the weekly Cruise-In. Open to all show cars\, rat rods\, trucks and motorcycles- no registration fee. Giveaways\, door prizes\, food discount for cruisers. Great hits from the ’50’s to the ’90’s. Family Event – open to everyone. 4:00 PM – 8:00 PM.
URL:https://www.jrthedj.com/event/pizza-hut-wingstreet-car-truck-cycle-cruise-in-3/
LOCATION:Pizza Hut\, 365 N. Lexington-Springmill Road\, Ontario\, OH\, 44906\, United States
END:VEVENT
BEGIN:VEVENT
DTSTART;TZID=America/New_York:20260523T170000
DTEND;TZID=America/New_York:20260523T220000
DTSTAMP:20260419T133219
CREATED:20260226T211826Z
LAST-MODIFIED:20260226T211826Z
UID:2419-1779555600-1779573600@www.jrthedj.com
SUMMARY:The Sonntag - Strong Wedding Reception
DESCRIPTION:Wooster\, Ohio – The Chalet at Freelander Park\, 406 Hillside Dr.\, Wooster for the Melanie Sonntag – Joshua Strong Wedding Reception.  PRIVATE EVENT – Invited guests only.  5:00 PM to 10:00 PM
URL:https://www.jrthedj.com/event/the-sonntag-strong-wedding-reception/
LOCATION:The Chalet at Freedlander Park\, 400 Hillside Drive\, Wooster\, OH\, 44691\, United States
END:VEVENT
BEGIN:VEVENT
DTSTART;TZID=America/New_York:20260528T160000
DTEND;TZID=America/New_York:20260528T200000
DTSTAMP:20260419T133219
CREATED:20260325T211835Z
LAST-MODIFIED:20260325T211835Z
UID:2518-1779984000-1779998400@www.jrthedj.com
SUMMARY:Pizza Hut - Wingstreet Car\, Truck & 'Cycle Cruise-In
DESCRIPTION:Ontario\, Ohio – Pizza Hut – Wingstreet\, 365 N. Lexington-Springmill Rd.\, for the weekly Cruise-In. Open to all show cars\, rat rods\, trucks and motorcycles- no registration fee. Giveaways\, door prizes\, food discount for cruisers. Great hits from the ’50’s to the ’90’s. Family Event – open to everyone. 4:00 PM – 8:00 PM.
URL:https://www.jrthedj.com/event/pizza-hut-wingstreet-car-truck-cycle-cruise-in-4/
LOCATION:OH
END:VEVENT
END:VCALENDAR